BEGIN:VCALENDAR
VERSION:2.0
PRODID:-//Red Feather Lodge Grand Canyon - ECPv6.15.20//NONSGML v1.0//EN
CALSCALE:GREGORIAN
METHOD:PUBLISH
X-WR-CALNAME:Red Feather Lodge Grand Canyon
X-ORIGINAL-URL:https://www.redfeatherlodge.com
X-WR-CALDESC:Events for Red Feather Lodge Grand Canyon
REFRESH-INTERVAL;VALUE=DURATION:PT1H
X-Robots-Tag:noindex
X-PUBLISHED-TTL:PT1H
BEGIN:VTIMEZONE
TZID:UTC
BEGIN:STANDARD
TZOFFSETFROM:+0000
TZOFFSETTO:+0000
TZNAME:UTC
DTSTART:20220101T000000
END:STANDARD
END:VTIMEZONE
BEGIN:VEVENT
DTSTART;VALUE=DATE:20250829
DTEND;VALUE=DATE:20250914
DTSTAMP:20260422T080621
CREATED:20230421T123145Z
LAST-MODIFIED:20250506T225321Z
UID:14477-1756425600-1757807999@www.redfeatherlodge.com
SUMMARY:Grand Canyon Music Festival
DESCRIPTION:Nestled in the awe-inspiring landscape of the Grand Canyon\, the Grand Canyon Music Festival offers a unique and intimate musical experience. For over four decades\, this cherished festival has brought together acclaimed musicians and ensembles\, whose performances resonate within the majestic Shrine of the Ages. Against the backdrop of the canyon’s grandeur\, audiences are treated to a diverse range of instrumental music\, often inspired by the spirit and beauty of this natural wonder\, creating unforgettable harmonies in a truly breathtaking setting. \nhttps://grandcanyonmusicfest.org/
URL:https://www.redfeatherlodge.com/event/grand-canyon-music-festival/
ATTACH;FMTTYPE=image/jpeg:https://www.redfeatherlodge.com/wp-content/uploads/2023/06/Grand_Canyon_Music_Festival.jpg
END:VEVENT
BEGIN:VEVENT
DTSTART;TZID=UTC:20250804T080000
DTEND;TZID=UTC:20250804T170000
DTSTAMP:20260422T080621
CREATED:20240610T182442Z
LAST-MODIFIED:20250506T223610Z
UID:14673-1754294400-1754326800@www.redfeatherlodge.com
SUMMARY:Free Entrance to Grand Canyon National Park on August 4
DESCRIPTION:The Great American Outdoors Act (GAOA) is a historic investment in the protection and sustainment of our public lands. Celebrate by exploring your local National Park. There is no charge to enter the National Parks on this day. For more information visit https://www.nps.gov/subjects/infrastructure/gaoa.htm
URL:https://www.redfeatherlodge.com/event/free-entrance-to-grand-canyon-national-park-on-august-4/
END:VEVENT
BEGIN:VEVENT
DTSTART;TZID=UTC:20250619T080000
DTEND;TZID=UTC:20250619T170000
DTSTAMP:20260422T080621
CREATED:20240610T181649Z
LAST-MODIFIED:20250506T223956Z
UID:14671-1750320000-1750352400@www.redfeatherlodge.com
SUMMARY:Free Entrance to Grand Canyon National Park on June 19
DESCRIPTION:Celebrate Juneteenth National Independence Day by exploring your local National Park or Monument. Juneteenth celebrates the date of June 19\, 1865\, when enslaved people of African descent located in Galveston\, Texas\, finally learned of their freedom from the slavery system in the United States. For more information visit https://www.nps.gov/subjects/npscelebrates/juneteenth.htm \n 
URL:https://www.redfeatherlodge.com/event/free-entrance-to-grand-canyon-national-park-on-june-19/
END:VEVENT
BEGIN:VEVENT
DTSTART;TZID=UTC:20240928T080000
DTEND;TZID=UTC:20240928T170000
DTSTAMP:20260422T080621
CREATED:20240610T182845Z
LAST-MODIFIED:20240610T182845Z
UID:14674-1727510400-1727542800@www.redfeatherlodge.com
SUMMARY:Free Entrance to Grand Canyon National Park on September 28
DESCRIPTION:All National Park Service sites that charge an entrance fee will offer free admission to everyone on September 28\, 2024 in celebration of National Public Lands Day!
URL:https://www.redfeatherlodge.com/event/free-entrance-to-grand-canyon-national-park-on-september-28/
END:VEVENT
BEGIN:VEVENT
DTSTART;VALUE=DATE:20240914
DTEND;VALUE=DATE:20240915
DTSTAMP:20260422T080621
CREATED:20240616T091634Z
LAST-MODIFIED:20240616T091634Z
UID:14689-1726272000-1726358399@www.redfeatherlodge.com
SUMMARY:Cellist Karlos Rodriquez
DESCRIPTION:Cellist Karlos Rodriquez of the Catalyst Quartet joins his Northern Arizona University colleagues\, violinist Steven Moeckel and pianist Silvan Negrutiu to close out the season with classical favorites.
URL:https://www.redfeatherlodge.com/event/cellist-karlos-rodriquez/
ATTACH;FMTTYPE=image/jpeg:https://www.redfeatherlodge.com/wp-content/uploads/2024/06/Karlos.jpeg
END:VEVENT
BEGIN:VEVENT
DTSTART;VALUE=DATE:20240913
DTEND;VALUE=DATE:20240914
DTSTAMP:20260422T080621
CREATED:20240616T091510Z
LAST-MODIFIED:20240616T091510Z
UID:14688-1726185600-1726271999@www.redfeatherlodge.com
SUMMARY:The Bonfiglio Group
DESCRIPTION:THE BONFIGLIO GROUP. Robert Bonfiglio\, Mark Berman\, and Stephen Benson in an evening of jazz\, pop\, and blues.
URL:https://www.redfeatherlodge.com/event/the-bonfiglio-group/
ATTACH;FMTTYPE=image/jpeg:https://www.redfeatherlodge.com/wp-content/uploads/2024/06/MarKB-606-1024x683-1.jpg
END:VEVENT
BEGIN:VEVENT
DTSTART;TZID=UTC:20240907T193000
DTEND;TZID=UTC:20240907T193000
DTSTAMP:20260422T080621
CREATED:20240616T091256Z
LAST-MODIFIED:20240616T091256Z
UID:14687-1725737400-1725737400@www.redfeatherlodge.com
SUMMARY:Manhattan Chamber Players
DESCRIPTION:THE MANHATTAN CHAMBER PLAYERS. Brendan Speltz and Connie Kupka\, violin\, Luke Fleming\, viola\, Brook Speltz and David Speltz\, cello\, David Fung\, piano\, with Clare Hoffman\, flute\, and Robert Bonfiglio\, harmonica\, with music by Mozart and Nino Rota\, and the monumental Brahms Piano Quartet No. 3 in C Minor\, Opus 60\, and Dvořák Piano Quartet No. 2 in Eb Major\, Opus 87.
URL:https://www.redfeatherlodge.com/event/manhattan-chamber-players-2/
END:VEVENT
BEGIN:VEVENT
DTSTART;TZID=UTC:20240906T193000
DTEND;TZID=UTC:20240906T193000
DTSTAMP:20260422T080621
CREATED:20240616T091152Z
LAST-MODIFIED:20240616T091152Z
UID:14686-1725651000-1725651000@www.redfeatherlodge.com
SUMMARY:Manhattan Chamber Players
DESCRIPTION:THE MANHATTAN CHAMBER PLAYERS. Brendan Speltz and Connie Kupka\, violin\, Luke Fleming\, viola\, Brook Speltz and David Speltz\, cello\, David Fung\, piano\, with Clare Hoffman\, flute\, and Robert Bonfiglio\, harmonica\, with music by Mozart and Nino Rota\, and the monumental Brahms Piano Quartet No. 3 in C Minor\, Opus 60\, and Dvořák Piano Quartet No. 2 in Eb Major\, Opus 87.
URL:https://www.redfeatherlodge.com/event/manhattan-chamber-players/
ATTACH;FMTTYPE=image/jpeg:https://www.redfeatherlodge.com/wp-content/uploads/2024/06/MCP-Group-Headshot-3-900x600-1-1.jpg
END:VEVENT
BEGIN:VEVENT
DTSTART;TZID=UTC:20240901T170000
DTEND;TZID=UTC:20240901T170000
DTSTAMP:20260422T080621
CREATED:20240616T091839Z
LAST-MODIFIED:20240616T091839Z
UID:14690-1725210000-1725210000@www.redfeatherlodge.com
SUMMARY:NATIVE AMERICAN COMPOSER APPRENTICE PROJECT (NACAP)
DESCRIPTION:An evening of new music by young composers from the Navajo and Hopi Nations\, under the guidance and mentorship of Michael Begay and Raven Chacon\, performed by Nicholas Johnson\, Grant Houston\, Bengisu Gokce\, and Jay Julio.
URL:https://www.redfeatherlodge.com/event/native-american-composer-apprentice-project-nacap/
END:VEVENT
BEGIN:VEVENT
DTSTART;TZID=UTC:20240831T193000
DTEND;TZID=UTC:20240831T193000
DTSTAMP:20260422T080621
CREATED:20240616T090730Z
LAST-MODIFIED:20240616T091013Z
UID:14685-1725132600-1725132600@www.redfeatherlodge.com
SUMMARY:Nicholas Johnson and Friends
DESCRIPTION:Cellist Nicholas Johnson\, violinists Grant Houston and Bengisu Gokce\, and violist Jay Julio. \nThis exciting group of young\, adventurous musicians are planning two evenings of ground breaking music\, exploring the expansive range of the string quartet\, with music spanning from the 18th century Joseph Bologne\, Chevalier de Saint-Georges\, to Raven Chacon’s “Journey of the Horizontal People”
URL:https://www.redfeatherlodge.com/event/nicholas-johnson-and-friends-2/
ATTACH;FMTTYPE=image/jpeg:https://www.redfeatherlodge.com/wp-content/uploads/2024/06/Nicholas-Johnson_480x480.jpg
END:VEVENT
BEGIN:VEVENT
DTSTART;TZID=UTC:20240830T193000
DTEND;TZID=UTC:20240830T193000
DTSTAMP:20260422T080621
CREATED:20240616T090618Z
LAST-MODIFIED:20240616T091019Z
UID:14684-1725046200-1725046200@www.redfeatherlodge.com
SUMMARY:Nicholas Johnson and Friends
DESCRIPTION:Cellist Nicholas Johnson\, violinists Grant Houston and Bengisu Gokce\, and violist Jay Julio. \nThis exciting group of young\, adventurous musicians are planning two evenings of ground breaking music\, exploring the expansive range of the string quartet\, with music spanning from the 18th century Joseph Bologne\, Chevalier de Saint-Georges\, to Raven Chacon’s “Journey of the Horizontal People”
URL:https://www.redfeatherlodge.com/event/nicholas-johnson-and-friends/
ATTACH;FMTTYPE=image/jpeg:https://www.redfeatherlodge.com/wp-content/uploads/2024/06/Nicholas-Johnson_480x480.jpg
END:VEVENT
BEGIN:VEVENT
DTSTART;VALUE=DATE:20240420
DTEND;VALUE=DATE:20240421
DTSTAMP:20260422T080621
CREATED:20240328T184520Z
LAST-MODIFIED:20240328T184723Z
UID:14657-1713571200-1713657599@www.redfeatherlodge.com
SUMMARY:Free Entrance to Grand Canyon National Park on April 20\, 2024
DESCRIPTION:Celebrate the first day of National Park Week and get FREE Entrance to Grand Canyon National Park.
URL:https://www.redfeatherlodge.com/event/free-entrance-to-grand-canyon-national-park-on-april-20-2024/
END:VEVENT
BEGIN:VEVENT
DTSTART;TZID=UTC:20240319T090000
DTEND;TZID=UTC:20240328T160000
DTSTAMP:20260422T080621
CREATED:20240314T213523Z
LAST-MODIFIED:20240314T213523Z
UID:14644-1710838800-1711641600@www.redfeatherlodge.com
SUMMARY:Desert View Cultural Demonstrator Series
DESCRIPTION:
URL:https://www.redfeatherlodge.com/event/desert-view-cultural-demonstrator-series/
ATTACH;FMTTYPE=application/pdf:https://www.redfeatherlodge.com/wp-content/uploads/2024/03/March-19-28-2.pdf
END:VEVENT
BEGIN:VEVENT
DTSTART;TZID=UTC:20231014T090000
DTEND;TZID=UTC:20231014T120000
DTSTAMP:20260422T080621
CREATED:20230606T005137Z
LAST-MODIFIED:20230921T214609Z
UID:14557-1697274000-1697284800@www.redfeatherlodge.com
SUMMARY:'RING OF FIRE' ANNULAR SOLAR ECLIPSE
DESCRIPTION:On the morning of October 14\, 2023\, a rare annular solar eclipse in which a smaller-than-average new moon moves across\, but fails to block completely\, the sun to cause a ‘ring of fire’. This eclipse will last approximately 5 minutes and Grand Canyon National Park South Rim will be very close to the path of this rare event.  Book direct with Eclipse rate so we know that you want free viewing glasses. For more info on this eclipse visit https://solarsystem.nasa.gov/eclipses/2023/oct-14-annular/where-when/ \nStay a few days and enjoy all the October Astronomy Events in Tusayan\, AZ. \nOctober 12 at 6:30 pm Telescopes will be set up at the Sports Complex in Tusayan. \nOctober 13 at 7:30 pm a free movie showing of ‘Secrets of the Universe’ at the Grand Canyon IMAX Theater which is within walking distance of the Red Feather Lodge. \nOctober 16 at 6:30 pm\, Dr. Cameron Hummels\, Astronomer in Residence at Grand Canyon will give a special presentation followed by a Laser-Guided Sky Tour which will also be within walking distance of the Red Feather Lodge. \nFor more information on these events visit \nhttps://tusayan-az.gov/explore/ \n 
URL:https://www.redfeatherlodge.com/event/ring-of-fire-annular-solar-eclipse/
ATTACH;FMTTYPE=image/jpeg:https://www.redfeatherlodge.com/wp-content/uploads/2023/06/Ring_of-Fire_Solar_Eclipse.jpg
END:VEVENT
BEGIN:VEVENT
DTSTART;VALUE=DATE:20230909
DTEND;VALUE=DATE:20230916
DTSTAMP:20260422T080621
CREATED:20230421T123221Z
LAST-MODIFIED:20230605T192544Z
UID:14478-1694217600-1694822399@www.redfeatherlodge.com
SUMMARY:Grand Canyon Celebration of Art
DESCRIPTION:https://www.grandcanyon.org/events/celebration-of-art/
URL:https://www.redfeatherlodge.com/event/grand-canyon-celebration-of-art/
ATTACH;FMTTYPE=image/jpeg:https://www.redfeatherlodge.com/wp-content/uploads/2023/06/Grand_Canyon_Celebration_Of_Art.jpg
END:VEVENT
BEGIN:VEVENT
DTSTART;TZID=UTC:20230703T203000
DTEND;TZID=UTC:20230703T203000
DTSTAMP:20260422T080621
CREATED:20230605T201143Z
LAST-MODIFIED:20230607T032120Z
UID:14552-1688416200-1688416200@www.redfeatherlodge.com
SUMMARY:SUPER MOON
DESCRIPTION:Get an impressive night view of Grand Canyon during a SUPER MOON\, which happens on July 3\, August 1\, August 31 and September 29.
URL:https://www.redfeatherlodge.com/event/super-moon/
ATTACH;FMTTYPE=image/jpeg:https://www.redfeatherlodge.com/wp-content/uploads/2023/06/GCnight_SuperMoon.jpg
END:VEVENT
BEGIN:VEVENT
DTSTART;VALUE=DATE:20230609
DTEND;VALUE=DATE:20230611
DTSTAMP:20260422T080621
CREATED:20230421T122922Z
LAST-MODIFIED:20230524T084522Z
UID:14474-1686268800-1686441599@www.redfeatherlodge.com
SUMMARY:Historic Route 66 Car Show in Williams\, AZ
DESCRIPTION:Williams Historic Route 66 Car Show \n \n 
URL:https://www.redfeatherlodge.com/event/historic-route-66-car-show-in-williams-az/
ATTACH;FMTTYPE=image/jpeg:https://www.redfeatherlodge.com/wp-content/uploads/2023/05/route-66-car_show_williams-arizona.jpg
END:VEVENT
END:VCALENDAR